BEGIN:VCALENDAR
VERSION:2.0
PRODID:-//Naturheilpraxis und Seminare - ECPv6.15.20//NONSGML v1.0//EN
CALSCALE:GREGORIAN
METHOD:PUBLISH
X-ORIGINAL-URL:https://www.pollack-naturheilpraxis.de
X-WR-CALDESC:Veranstaltungen für Naturheilpraxis und Seminare
REFRESH-INTERVAL;VALUE=DURATION:PT1H
X-Robots-Tag:noindex
X-PUBLISHED-TTL:PT1H
BEGIN:VTIMEZONE
TZID:Europe/Berlin
BEGIN:DAYLIGHT
TZOFFSETFROM:+0100
TZOFFSETTO:+0200
TZNAME:CEST
DTSTART:20250330T010000
END:DAYLIGHT
BEGIN:STANDARD
TZOFFSETFROM:+0200
TZOFFSETTO:+0100
TZNAME:CET
DTSTART:20251026T010000
END:STANDARD
BEGIN:DAYLIGHT
TZOFFSETFROM:+0100
TZOFFSETTO:+0200
TZNAME:CEST
DTSTART:20260329T010000
END:DAYLIGHT
BEGIN:STANDARD
TZOFFSETFROM:+0200
TZOFFSETTO:+0100
TZNAME:CET
DTSTART:20261025T010000
END:STANDARD
BEGIN:DAYLIGHT
TZOFFSETFROM:+0100
TZOFFSETTO:+0200
TZNAME:CEST
DTSTART:20270328T010000
END:DAYLIGHT
BEGIN:STANDARD
TZOFFSETFROM:+0200
TZOFFSETTO:+0100
TZNAME:CET
DTSTART:20271031T010000
END:STANDARD
END:VTIMEZONE
BEGIN:VEVENT
DTSTART;TZID=Europe/Berlin:20260318T190000
DTEND;TZID=Europe/Berlin:20260318T220000
DTSTAMP:20260422T175129
CREATED:20241114T064402Z
LAST-MODIFIED:20251204T081102Z
UID:1863-1773860400-1773871200@www.pollack-naturheilpraxis.de
SUMMARY:Familienaufstellung März 2026
DESCRIPTION:Beim Familienstellen schauen wir von außen auf das Familiensystem (Eltern\, Ahnen und Geschwistern) mit allen Verbindungen und Verstrickungen. Dabei handelt es sich um eine Lebenshilfe\, die in einer vertrauensvollen Gruppe stattfindet. Wir bezeichnen dies gerne als Liebesdienst\, den sich die Teilnehmer untereinander erweisen\, weil wir im Grunde alle im gleichen Boot sitzen\, mit unterschiedlichen Aufgaben und Herausforderungen. Der Klient mit eigener Aufstellung wählt aus dem Kreise der anderen Teilnehmer sogenannte Stellvertreter für seine eigenen Familienmitglieder aus. Diese brauchen nicht anwesend sein und der Stellvertreter braucht keinerlei Information über die Person\, die er vertritt. Durch die Position\, die er während der Aufstellung einnimmt\, bekommt er Informationen über Gedanken und Gefühle des Familienmitglieds\, das er repräsentiert – unabhängig davon\, ob dieses noch lebt oder bereits vor langer Zeit verstorben ist. Dadurch zeigt sich\, wie der Betroffene z.B. mit einem anderen Familienmitglied so identifiziert ist\, dass er dessen Schicksal wie sein eigenes getragen hat und auch das Fremde nicht von dem Eigenen unterscheiden kann. \nBeitrag Aufstellung:  135 € \nBeitrag Stellvertreter: 15 €
URL:https://www.pollack-naturheilpraxis.de/event/familienaufstellung-maerz-2026
LOCATION:Naturheilpraxis Pollack
CATEGORIES:Aufstellungen
ATTACH;FMTTYPE=image/jpeg:https://www.pollack-naturheilpraxis.de/wp-content/uploads/2022/09/Familienaufstellung-scaled.jpg
END:VEVENT
END:VCALENDAR