BEGIN:VCALENDAR
VERSION:2.0
PRODID:-//Naturheilpraxis und Seminare - ECPv6.15.20//NONSGML v1.0//EN
CALSCALE:GREGORIAN
METHOD:PUBLISH
X-ORIGINAL-URL:https://www.pollack-naturheilpraxis.de
X-WR-CALDESC:Veranstaltungen für Naturheilpraxis und Seminare
REFRESH-INTERVAL;VALUE=DURATION:PT1H
X-Robots-Tag:noindex
X-PUBLISHED-TTL:PT1H
BEGIN:VTIMEZONE
TZID:Europe/Berlin
BEGIN:DAYLIGHT
TZOFFSETFROM:+0100
TZOFFSETTO:+0200
TZNAME:CEST
DTSTART:20250330T010000
END:DAYLIGHT
BEGIN:STANDARD
TZOFFSETFROM:+0200
TZOFFSETTO:+0100
TZNAME:CET
DTSTART:20251026T010000
END:STANDARD
BEGIN:DAYLIGHT
TZOFFSETFROM:+0100
TZOFFSETTO:+0200
TZNAME:CEST
DTSTART:20260329T010000
END:DAYLIGHT
BEGIN:STANDARD
TZOFFSETFROM:+0200
TZOFFSETTO:+0100
TZNAME:CET
DTSTART:20261025T010000
END:STANDARD
BEGIN:DAYLIGHT
TZOFFSETFROM:+0100
TZOFFSETTO:+0200
TZNAME:CEST
DTSTART:20270328T010000
END:DAYLIGHT
BEGIN:STANDARD
TZOFFSETFROM:+0200
TZOFFSETTO:+0100
TZNAME:CET
DTSTART:20271031T010000
END:STANDARD
END:VTIMEZONE
BEGIN:VEVENT
DTSTART;TZID=Europe/Berlin:20260528T150000
DTEND;TZID=Europe/Berlin:20260531T140000
DTSTAMP:20260422T175012
CREATED:20231110T161213Z
LAST-MODIFIED:20260330T123320Z
UID:1761-1779980400-1780236000@www.pollack-naturheilpraxis.de
SUMMARY:Lesen im morphischen Feld – Vertiefung
DESCRIPTION:Naturnah-Seminar in Kooperation mit WaldZeit e.v. Ein besonderes Seminar an einem besonderen Ort. Bei Interesse bitte persönlich anfragen. Begrenzte Plätze.
URL:https://www.pollack-naturheilpraxis.de/event/lesen-im-morphischen-feld-vertiefung-2
LOCATION:Naturheilpraxis Pollack
CATEGORIES:Lesen im morphischen Feld
ATTACH;FMTTYPE=image/jpeg:https://www.pollack-naturheilpraxis.de/wp-content/uploads/2022/09/lesen-morphisches-feld.jpg
END:VEVENT
END:VCALENDAR