BEGIN:VCALENDAR
VERSION:2.0
PRODID:-//Naturheilpraxis und Seminare - ECPv6.15.20//NONSGML v1.0//EN
CALSCALE:GREGORIAN
METHOD:PUBLISH
X-WR-CALNAME:Naturheilpraxis und Seminare
X-ORIGINAL-URL:https://www.pollack-naturheilpraxis.de
X-WR-CALDESC:Veranstaltungen für Naturheilpraxis und Seminare
REFRESH-INTERVAL;VALUE=DURATION:PT1H
X-Robots-Tag:noindex
X-PUBLISHED-TTL:PT1H
BEGIN:VTIMEZONE
TZID:Europe/Berlin
BEGIN:DAYLIGHT
TZOFFSETFROM:+0100
TZOFFSETTO:+0200
TZNAME:CEST
DTSTART:20250330T010000
END:DAYLIGHT
BEGIN:STANDARD
TZOFFSETFROM:+0200
TZOFFSETTO:+0100
TZNAME:CET
DTSTART:20251026T010000
END:STANDARD
BEGIN:DAYLIGHT
TZOFFSETFROM:+0100
TZOFFSETTO:+0200
TZNAME:CEST
DTSTART:20260329T010000
END:DAYLIGHT
BEGIN:STANDARD
TZOFFSETFROM:+0200
TZOFFSETTO:+0100
TZNAME:CET
DTSTART:20261025T010000
END:STANDARD
BEGIN:DAYLIGHT
TZOFFSETFROM:+0100
TZOFFSETTO:+0200
TZNAME:CEST
DTSTART:20270328T010000
END:DAYLIGHT
BEGIN:STANDARD
TZOFFSETFROM:+0200
TZOFFSETTO:+0100
TZNAME:CET
DTSTART:20271031T010000
END:STANDARD
END:VTIMEZONE
BEGIN:VEVENT
DTSTART;VALUE=DATE:20260627
DTEND;VALUE=DATE:20260628
DTSTAMP:20260422T192249
CREATED:20220920T071003Z
LAST-MODIFIED:20260413T132829Z
UID:1411-1782518400-1782604799@www.pollack-naturheilpraxis.de
SUMMARY:Ich helfe mir selbst\, was sonst – Umgang mit Einhandrute und Pendel
DESCRIPTION:Der sichere Umgang mit der Einhandrute oder dem Pendel hilft nicht nur beim Aufspüren von Wasseradern oder Erdverwerfungen\, der Einsatzbereich ist noch viel größer und vielfältiger. \n\n\nWeißt du\, dass Plus-Minus-Felder oder auch Elektrosmog mitverantwortlich sein können für andauernde Schlafstörungen oder schwere Erkrankungen? Auch das lässt sich mit der entsprechenden Fragestellung testen. \n\n\nWeißt du\, dass beispielsweise der richtige Platz für das Setzen eines jungen Apfelbaumes oder für das neue Gewächshaus im Garten mit der Einhandrute gefunden werden kann? \n\n\nWeißt du\, wie du die Einhandrute oder dein Pendel zum Austesten von Naturheilmitteln wie Schüssler-Salze oder Bachblüten einsetzen kannst? \n\n\nDas alles lernst du in unserem Seminar.Unsere Seminare sind so konzipiert\, dass sich Theorie und praktischer Übungsteil ergänzen und dass jeder das Gelernte sofort anwenden und umsetzen kann. \nEine Einhandrute kann im Seminar erworben werden. \nSeminarinhalt: \n\nEinführung ins Rutengehen\nErdungs- und Schutzübungen\nAuffinden von Wasseradern und Erdverwerfungen\nEinsatzmöglichkeiten im Gartenbau und in der Landwirtschaft\nMessen von Elektrosmog und anderen Störzonen\nMaßnahmen zur Entstörung\nAustesten von Lebensmitteln\, Schüssler-Salzen u.a.\n\n  \nOrganisatorisches \nZeit: 9.00 bis 17.00 Uhr \n\n\n\n\n \nBeitrag: 130\,00 € mit ausführlichen Unterlagen \nLeitung: Udo Pollack \n\n\n\n \nHäufige Fragen \nBrauche ich Vorkenntnisse? Nein\, du wirst Schritt für Schritt angeleitet. \nMuss ich eine Einhandrute mitbringen? Nicht zwingend – du kannst vor Ort eine Einhandrute kaufen. \nSketisch? Umso besser. Wir arbeiten praxisnah\, du prüfst selbst\, was für dich stimmig ist. 
URL:https://www.pollack-naturheilpraxis.de/event/ich-helfe-mir-selbst-was-sonst-umgang-mit-einhandrute-und-pendel
LOCATION:Naturheilpraxis Pollack
CATEGORIES:Pendel Rute
ATTACH;FMTTYPE=image/jpeg:https://www.pollack-naturheilpraxis.de/wp-content/uploads/2022/09/DSC00057-scaled.jpg
END:VEVENT
END:VCALENDAR