BEGIN:VCALENDAR
VERSION:2.0
PRODID:-//Naturheilpraxis und Seminare - ECPv6.15.20//NONSGML v1.0//EN
CALSCALE:GREGORIAN
METHOD:PUBLISH
X-WR-CALNAME:Naturheilpraxis und Seminare
X-ORIGINAL-URL:https://www.pollack-naturheilpraxis.de
X-WR-CALDESC:Veranstaltungen für Naturheilpraxis und Seminare
REFRESH-INTERVAL;VALUE=DURATION:PT1H
X-Robots-Tag:noindex
X-PUBLISHED-TTL:PT1H
BEGIN:VTIMEZONE
TZID:Europe/Berlin
BEGIN:DAYLIGHT
TZOFFSETFROM:+0100
TZOFFSETTO:+0200
TZNAME:CEST
DTSTART:20240331T010000
END:DAYLIGHT
BEGIN:STANDARD
TZOFFSETFROM:+0200
TZOFFSETTO:+0100
TZNAME:CET
DTSTART:20241027T010000
END:STANDARD
BEGIN:DAYLIGHT
TZOFFSETFROM:+0100
TZOFFSETTO:+0200
TZNAME:CEST
DTSTART:20250330T010000
END:DAYLIGHT
BEGIN:STANDARD
TZOFFSETFROM:+0200
TZOFFSETTO:+0100
TZNAME:CET
DTSTART:20251026T010000
END:STANDARD
BEGIN:DAYLIGHT
TZOFFSETFROM:+0100
TZOFFSETTO:+0200
TZNAME:CEST
DTSTART:20260329T010000
END:DAYLIGHT
BEGIN:STANDARD
TZOFFSETFROM:+0200
TZOFFSETTO:+0100
TZNAME:CET
DTSTART:20261025T010000
END:STANDARD
END:VTIMEZONE
BEGIN:VEVENT
DTSTART;TZID=Europe/Berlin:20251120T190000
DTEND;TZID=Europe/Berlin:20251120T203000
DTSTAMP:20260424T192936
CREATED:20251010T092751Z
LAST-MODIFIED:20251022T042313Z
UID:1942-1763665200-1763670600@www.pollack-naturheilpraxis.de
SUMMARY:Vortrag Verkappte Linkshändigkeit über ZOOM
DESCRIPTION:Obwohl Linkshänder nicht mehr bewusst umgeschult werden\, betrifft dieses Thema immer noch viele Kinder und Erwachsene.\nWelche Auswirkungen hat es auf mein Leben\, wenn ich meine Händigkeit nicht erkenne und lebe? \nIm Zusammenhang mit dem BioLogischen Heilwissen ist uns schon lange bewusst\, dass ein Rechtshänder auf einen biologischen Konflikt anders reagiert als ein Linkshänder. Doch eine nicht gelebte Linkshändigkeit oder eine Umprogrammierung auf die rechte Hand hat noch viel tiefgreifendere Folgen. Studien zufolge sind ungefähr die Hälfte der Menschen Linkshänder. \nVielleicht kennst du das auch?  \n\nBist du mit dir selber sehr perfektionistisch?\nBist du abends nach der Arbeit – scheinbar ohne Grund – häufig genervt?\nIst deine Schrift zu klein\, schief oder verwechselst du häufig Zahlen?\nKannst du Spiegelschrift schreiben?\nFühlst du dich nicht spontan und schlagfertig?\nStolperst du öfters oder hattest du mehr Verletzungen auf der rechten Körperseite?\nLeidest du an mangelndem Selbstwert oder stotterst du leicht bei Aufregung?\nVerwechselst du immer wieder links und rechts?\n\nWenn du mehrere dieser Fragen mit ja beantwortest\, kann es sein\, dass du zu den verkappten oder umerzogenen Linkshändern gehörst. Warum das so ist\, wie sich das äußert und wie Heilung geschehen kann\, erfährst du in diesem Vortrag. \n  \nDonnerstag\, 20. November 2025\, 19.00 Uhr\nZOOM\, der Zugangslink wird nach der Anmeldung zugeschickt.\nReferentin: Maria Pollack \nBeitrag: Spendenbasis
URL:https://www.pollack-naturheilpraxis.de/event/vortrag-rechts-oder-linkshaendigkei-ueber-zoom
CATEGORIES:Vortrag Verkappte Linkshändigkeit über ZOOM
ATTACH;FMTTYPE=image/jpeg:https://www.pollack-naturheilpraxis.de/wp-content/uploads/2023/02/Haende-3-scaled.jpg
END:VEVENT
BEGIN:VEVENT
DTSTART;TZID=Europe/Berlin:20251126T190000
DTEND;TZID=Europe/Berlin:20251126T220000
DTSTAMP:20260424T192936
CREATED:20250402T143113Z
LAST-MODIFIED:20251022T034746Z
UID:1921-1764183600-1764194400@www.pollack-naturheilpraxis.de
SUMMARY:Familienaufstellung November 2025
DESCRIPTION:Manchmal sind wir so tief mit dem Schicksal anderer verbunden – Eltern\, Ahnen\, Geschwistern –\, dass wir unser eigenes Leben nicht wirklich leben können.Wir fühlen uns wie im Hamsterrad\, kraftlos\, blockiert. Und manchmal erscheint uns genau das sogar als normal. \nDie Familienaufstellung ist eine kraftvolle Möglichkeit\, solche unsichtbaren Verstrickungen zu erkennen – und liebevoll aufzulösen. \nIn einer achtsamen Gruppe stellen wir dein Familiensystem auf. Du wirst begleitet. Du wirst gesehen. Und du wirst erleben\, wie es ist\, wieder bei dir selbst anzukommen. \nWas bei einer Aufstellung geschieht \n Du wählst Stellvertreter für deine Familienmitglieder aus der Gruppe – sie übernehmen intuitiv ihre Rollen\, ganz ohne Vorwissen. Dabei treten Gefühle\, Gedanken und Dynamiken zutage\, die oft tief im System verborgen waren. \nVerbindungen\, die nicht zu dir gehören\, dürfen sich zeigen – und sich lösen. Du erkennst:Was ist wirklich deins? Und was darfst du jetzt zurückgeben? \nFür wen ist die Aufstellung geeignet?  \n\nWenn du das Gefühl hast\, fremde Lasten zu tragen\nWenn du in Beziehungen oder im Beruf immer wieder in alte Muster fällst\nWenn du deinen Platz im Leben nicht richtig findest\nWenn du Klarheit\, mehr Energie und innere Freiheit suchst\n\nAuch körperliche Symptome\, Ängste oder berufliche Blockaden haben oft tiefere Wurzeln im System. \nBeitrag Aufstellung:  135 €  – Teilnahme nur mit vorherigem Vorgespräch möglich \nBeitrag Stellvertreter: 15 € \nJetzt Platz sichern \n👉 Ich möchte eine eigene Aufstellung buchen \nPlatz anfragen & Vorgespräch vereinbaren(Du erhältst zeitnah einen Termin für das telefonische Vorgespräch.) \n👉 Ich möchte als Stellvertreter teilnehmen \nJetzt als Stellvertreter anmelden(Auch als Stellvertreter kann sich oft ganz unerwartet etwas lösen.) \n👉 Noch Fragen? Unverbindlich Kontakt aufnehmen info@pollack-naturheilpraxis.de
URL:https://www.pollack-naturheilpraxis.de/event/familienaufstellung-november-2025-2
LOCATION:Naturheilpraxis Pollack
CATEGORIES:Aufstellungen
ATTACH;FMTTYPE=image/jpeg:https://www.pollack-naturheilpraxis.de/wp-content/uploads/2022/09/Familienaufstellung-scaled.jpg
END:VEVENT
END:VCALENDAR